BEGIN:VCALENDAR
VERSION:2.0
PRODID:-//Sight For Wight - ECPv6.15.20//NONSGML v1.0//EN
CALSCALE:GREGORIAN
METHOD:PUBLISH
X-WR-CALNAME:Sight For Wight
X-ORIGINAL-URL:https://www.iwsb.org.uk
X-WR-CALDESC:Events for Sight For Wight
REFRESH-INTERVAL;VALUE=DURATION:PT1H
X-Robots-Tag:noindex
X-PUBLISHED-TTL:PT1H
BEGIN:VTIMEZONE
TZID:Europe/London
BEGIN:DAYLIGHT
TZOFFSETFROM:+0000
TZOFFSETTO:+0100
TZNAME:BST
DTSTART:20220327T010000
END:DAYLIGHT
BEGIN:STANDARD
TZOFFSETFROM:+0100
TZOFFSETTO:+0000
TZNAME:GMT
DTSTART:20221030T010000
END:STANDARD
BEGIN:DAYLIGHT
TZOFFSETFROM:+0000
TZOFFSETTO:+0100
TZNAME:BST
DTSTART:20230326T010000
END:DAYLIGHT
BEGIN:STANDARD
TZOFFSETFROM:+0100
TZOFFSETTO:+0000
TZNAME:GMT
DTSTART:20231029T010000
END:STANDARD
BEGIN:DAYLIGHT
TZOFFSETFROM:+0000
TZOFFSETTO:+0100
TZNAME:BST
DTSTART:20240331T010000
END:DAYLIGHT
BEGIN:STANDARD
TZOFFSETFROM:+0100
TZOFFSETTO:+0000
TZNAME:GMT
DTSTART:20241027T010000
END:STANDARD
END:VTIMEZONE
BEGIN:VEVENT
DTSTART;TZID=Europe/London:20230419T100000
DTEND;TZID=Europe/London:20230419T113000
DTSTAMP:20260423T134220
CREATED:20190318T163254Z
LAST-MODIFIED:20210716T084727Z
UID:8045-1681898400-1681903800@www.iwsb.org.uk
SUMMARY:Wednesday Coffee & Chat
DESCRIPTION:We hold a coffee morning each week on a Wednesday at Millbrooke House from 10.00am till 11.30am. All are welcome to join us for a cup of tea or coffee and cake. The cost is £1 and the group is open to all\, not just Members. \nOn the first Wednesday of each month we are joined by the Macular Society for their monthly meet up. \nOn the second Wednesday of each month we are inviting people to bring along a friend/relative/neighbour to enjoy coffee and cake with us. \nOn the third Wednesday of each month we will be joined by Laura Gooljar\, the local ECLO (Eye Clinic Liaison Officer) from St Mary’s Hospital (starting in August 2021). \nOn the fourth Wednesday of each month we will have a trustee/member of staff on hand to answer questions about the charity.
URL:https://www.iwsb.org.uk/event/wednesday-coffee-morning-2023-04-19/
LOCATION:Isle of Wight
CATEGORIES:Activities,Coffee Morning
END:VEVENT
BEGIN:VEVENT
DTSTART;TZID=Europe/London:20230419T100000
DTEND;TZID=Europe/London:20230419T120000
DTSTAMP:20260423T134220
CREATED:20190318T163620Z
LAST-MODIFIED:20210716T085540Z
UID:8046-1681898400-1681905600@www.iwsb.org.uk
SUMMARY:Wednesday Low Vision Drop-in
DESCRIPTION:Every Wednesday\, we have a drop-in session which allows you to view and try low vision equipment we have at Sight for Wight without the need for an appointment.  If this time is not convenient for you then you are welcome to call us to make an appointment to view our equipment. \nPlease note if you wish to trial a specific digital magnifier or ‘seeing headset’; these items are not held in stock at Millbrooke House but we can arrange meetings with the relevant suppliers.
URL:https://www.iwsb.org.uk/event/wednesday-low-vision-drop-in-2023-04-19/
LOCATION:Isle of Wight
CATEGORIES:Activities,Wednesday Low Vision Drop-in
ATTACH;FMTTYPE=image/jpeg:https://www.iwsb.org.uk/wp-content/uploads/2019/03/old123.jpg
END:VEVENT
BEGIN:VEVENT
DTSTART;TZID=Europe/London:20230420T103000
DTEND;TZID=Europe/London:20230420T140000
DTSTAMP:20260423T134220
CREATED:20190318T163820Z
LAST-MODIFIED:20210716T090024Z
UID:8047-1681986600-1681999200@www.iwsb.org.uk
SUMMARY:Mix & Mingle Social Group
DESCRIPTION:Our Thursday Social Group has a new name!  The group meet every week from 10.30am till 2.00pm at Millbrooke House and give visually impaired people the chance to ‘mix and mingle’!   We have planned themes each week; e.g. beach day\, pub quizzes\, bingo\, carnival day\, music day and much more!  Members bring along their own packed lunch to enjoy. \nThe group welcomes volunteers who come in to read from various books. \nThe weekly cost to join the group is £3.00.  Transport can be arranged (subject to availability) for an extra £2.50.
URL:https://www.iwsb.org.uk/event/thursday-social-group-2023-04-20/
LOCATION:Millbrooke House
CATEGORIES:Activities,Thursday Social Group
END:VEVENT
BEGIN:VEVENT
DTSTART;TZID=Europe/London:20230426T100000
DTEND;TZID=Europe/London:20230426T113000
DTSTAMP:20260423T134220
CREATED:20190318T163254Z
LAST-MODIFIED:20210716T084728Z
UID:8064-1682503200-1682508600@www.iwsb.org.uk
SUMMARY:Wednesday Coffee & Chat
DESCRIPTION:We hold a coffee morning each week on a Wednesday at Millbrooke House from 10.00am till 11.30am. All are welcome to join us for a cup of tea or coffee and cake. The cost is £1 and the group is open to all\, not just Members. \nOn the first Wednesday of each month we are joined by the Macular Society for their monthly meet up. \nOn the second Wednesday of each month we are inviting people to bring along a friend/relative/neighbour to enjoy coffee and cake with us. \nOn the third Wednesday of each month we will be joined by Laura Gooljar\, the local ECLO (Eye Clinic Liaison Officer) from St Mary’s Hospital (starting in August 2021). \nOn the fourth Wednesday of each month we will have a trustee/member of staff on hand to answer questions about the charity.
URL:https://www.iwsb.org.uk/event/wednesday-coffee-morning-2023-04-26/
LOCATION:Isle of Wight
CATEGORIES:Activities,Coffee Morning
END:VEVENT
BEGIN:VEVENT
DTSTART;TZID=Europe/London:20230426T100000
DTEND;TZID=Europe/London:20230426T120000
DTSTAMP:20260423T134220
CREATED:20190318T163620Z
LAST-MODIFIED:20210716T085540Z
UID:8065-1682503200-1682510400@www.iwsb.org.uk
SUMMARY:Wednesday Low Vision Drop-in
DESCRIPTION:Every Wednesday\, we have a drop-in session which allows you to view and try low vision equipment we have at Sight for Wight without the need for an appointment.  If this time is not convenient for you then you are welcome to call us to make an appointment to view our equipment. \nPlease note if you wish to trial a specific digital magnifier or ‘seeing headset’; these items are not held in stock at Millbrooke House but we can arrange meetings with the relevant suppliers.
URL:https://www.iwsb.org.uk/event/wednesday-low-vision-drop-in-2023-04-26/
LOCATION:Isle of Wight
CATEGORIES:Activities,Wednesday Low Vision Drop-in
ATTACH;FMTTYPE=image/jpeg:https://www.iwsb.org.uk/wp-content/uploads/2019/03/old123.jpg
END:VEVENT
BEGIN:VEVENT
DTSTART;TZID=Europe/London:20230427T103000
DTEND;TZID=Europe/London:20230427T140000
DTSTAMP:20260423T134220
CREATED:20190318T163820Z
LAST-MODIFIED:20210716T090025Z
UID:8075-1682591400-1682604000@www.iwsb.org.uk
SUMMARY:Mix & Mingle Social Group
DESCRIPTION:Our Thursday Social Group has a new name!  The group meet every week from 10.30am till 2.00pm at Millbrooke House and give visually impaired people the chance to ‘mix and mingle’!   We have planned themes each week; e.g. beach day\, pub quizzes\, bingo\, carnival day\, music day and much more!  Members bring along their own packed lunch to enjoy. \nThe group welcomes volunteers who come in to read from various books. \nThe weekly cost to join the group is £3.00.  Transport can be arranged (subject to availability) for an extra £2.50.
URL:https://www.iwsb.org.uk/event/thursday-social-group-2023-04-27/
LOCATION:Millbrooke House
CATEGORIES:Activities,Thursday Social Group
END:VEVENT
BEGIN:VEVENT
DTSTART;VALUE=DATE:20230428
DTEND;VALUE=DATE:20230429
DTSTAMP:20260423T134220
CREATED:20190318T165223Z
LAST-MODIFIED:20210716T092122Z
UID:8086-1682640000-1682726399@www.iwsb.org.uk
SUMMARY:Striders
DESCRIPTION:Striders meet on the last Friday of every month. They walk on different routes around the Island and then finish off with lunch at a local pub or restaurant. The group is open to all visually impaired people who like longer walks in the countryside and\, of course\, there are always sighted guides on hand and the routes are always checked for suitability in advance. \nThe cost to walk with the group is £3.00 and when we do not leave from Newport\, transport can be provided at a cost of £2.50.
URL:https://www.iwsb.org.uk/event/striders-2023-04-28/
LOCATION:Isle of Wight
CATEGORIES:Activities,Striders
END:VEVENT
END:VCALENDAR