BEGIN:VCALENDAR
VERSION:2.0
PRODID:-//Sight For Wight - ECPv6.15.20//NONSGML v1.0//EN
CALSCALE:GREGORIAN
METHOD:PUBLISH
X-ORIGINAL-URL:https://www.iwsb.org.uk
X-WR-CALDESC:Events for Sight For Wight
REFRESH-INTERVAL;VALUE=DURATION:PT1H
X-Robots-Tag:noindex
X-PUBLISHED-TTL:PT1H
BEGIN:VTIMEZONE
TZID:Europe/London
BEGIN:DAYLIGHT
TZOFFSETFROM:+0000
TZOFFSETTO:+0100
TZNAME:BST
DTSTART:20260329T010000
END:DAYLIGHT
BEGIN:STANDARD
TZOFFSETFROM:+0100
TZOFFSETTO:+0000
TZNAME:GMT
DTSTART:20261025T010000
END:STANDARD
BEGIN:DAYLIGHT
TZOFFSETFROM:+0000
TZOFFSETTO:+0100
TZNAME:BST
DTSTART:20270328T010000
END:DAYLIGHT
BEGIN:STANDARD
TZOFFSETFROM:+0100
TZOFFSETTO:+0000
TZNAME:GMT
DTSTART:20271031T010000
END:STANDARD
BEGIN:DAYLIGHT
TZOFFSETFROM:+0000
TZOFFSETTO:+0100
TZNAME:BST
DTSTART:20280326T010000
END:DAYLIGHT
BEGIN:STANDARD
TZOFFSETFROM:+0100
TZOFFSETTO:+0000
TZNAME:GMT
DTSTART:20281029T010000
END:STANDARD
END:VTIMEZONE
BEGIN:VEVENT
DTSTART;TZID=Europe/London:20270414T100000
DTEND;TZID=Europe/London:20270414T120000
DTSTAMP:20260420T060617
CREATED:20190318T163620Z
LAST-MODIFIED:20190318T163620Z
UID:12048-1807696800-1807704000@www.iwsb.org.uk
SUMMARY:Wednesday Low Vision Drop-in
DESCRIPTION:Every Wednesday\, we have a drop-in session which allows you to view and try low vision equipment we have at Sight for Wight without the need for an appointment.  If this time is not convenient for you then you are welcome to call us to make an appointment to view our equipment. \nPlease note if you wish to trial a specific digital magnifier or ‘seeing headset’; these items are not held in stock at Millbrooke House but we can arrange meetings with the relevant suppliers.
URL:https://www.iwsb.org.uk/event/wednesday-low-vision-drop-in-2027-04-14/
CATEGORIES:Activities,Wednesday Low Vision Drop-in
ATTACH;FMTTYPE=image/jpeg:https://www.iwsb.org.uk/wp-content/uploads/2019/03/old123.jpg
END:VEVENT
BEGIN:VEVENT
DTSTART;TZID=Europe/London:20270414T140000
DTEND;TZID=Europe/London:20270414T150000
DTSTAMP:20260420T060617
CREATED:20190318T164514Z
LAST-MODIFIED:20190318T164514Z
UID:12049-1807711200-1807714800@www.iwsb.org.uk
SUMMARY:Monthly Book Group
DESCRIPTION:Sight for Wight hold a book group on the second Wednesday of each month.  The group runs from 2pm for about an hour and discuss the last month’s book and then hand out the audible book for the next month.  Books are available on USB stick or CD.  There is no charge to join the group. \nFor more informaiton call 01983 522205 or email: enquiries@iwsb.org.uk \n 
URL:https://www.iwsb.org.uk/event/monthly-book-group-2027-04-14/
CATEGORIES:Activities,Monthly Book Group
END:VEVENT
END:VCALENDAR